BEGIN:VCALENDAR
VERSION:2.0
PRODID:-//630Kids.com - ECPv6.15.20//NONSGML v1.0//EN
CALSCALE:GREGORIAN
METHOD:PUBLISH
X-ORIGINAL-URL:https://630kids.com
X-WR-CALDESC:Events for 630Kids.com
REFRESH-INTERVAL;VALUE=DURATION:PT1H
X-Robots-Tag:noindex
X-PUBLISHED-TTL:PT1H
BEGIN:VTIMEZONE
TZID:America/Chicago
BEGIN:DAYLIGHT
TZOFFSETFROM:-0600
TZOFFSETTO:-0500
TZNAME:CDT
DTSTART:20180311T080000
END:DAYLIGHT
BEGIN:STANDARD
TZOFFSETFROM:-0500
TZOFFSETTO:-0600
TZNAME:CST
DTSTART:20181104T070000
END:STANDARD
BEGIN:DAYLIGHT
TZOFFSETFROM:-0600
TZOFFSETTO:-0500
TZNAME:CDT
DTSTART:20190310T080000
END:DAYLIGHT
BEGIN:STANDARD
TZOFFSETFROM:-0500
TZOFFSETTO:-0600
TZNAME:CST
DTSTART:20191103T070000
END:STANDARD
BEGIN:DAYLIGHT
TZOFFSETFROM:-0600
TZOFFSETTO:-0500
TZNAME:CDT
DTSTART:20200308T080000
END:DAYLIGHT
BEGIN:STANDARD
TZOFFSETFROM:-0500
TZOFFSETTO:-0600
TZNAME:CST
DTSTART:20201101T070000
END:STANDARD
END:VTIMEZONE
BEGIN:VEVENT
DTSTART;TZID=America/Chicago:20191005T080000
DTEND;TZID=America/Chicago:20191005T140000
DTSTAMP:20260423T151907
CREATED:20190811T005712Z
LAST-MODIFIED:20190811T005712Z
UID:90-1570262400-1570284000@630kids.com
SUMMARY:Wheaton French Market
DESCRIPTION:Grab the kids and head to the Wheaton French Market! \n Wheaton French Market Kids Bucket List
URL:https://630kids.com/event/wheaton-french-market-9/
LOCATION:Wheaton French Market\, E Liberty Drive and S Cross Street\, Wheaton\, IL\, 60187\, United States
END:VEVENT
BEGIN:VEVENT
DTSTART;TZID=America/Chicago:20191002T090000
DTEND;TZID=America/Chicago:20191002T170000
DTSTAMP:20260423T151907
CREATED:20190813T125007Z
LAST-MODIFIED:20190813T125008Z
UID:165-1570006800-1570035600@630kids.com
SUMMARY:Field Museum FREE DAY
DESCRIPTION:The Field Museum is offering Illinois Residents free admission \n Details Here
URL:https://630kids.com/event/field-museum-free-day-8/
LOCATION:Field Museum\, 1400 S Lake Shore Drive\, Chicago\, IL\, 60605
END:VEVENT
BEGIN:VEVENT
DTSTART;TZID=America/Chicago:20191002T090000
DTEND;TZID=America/Chicago:20191002T170000
DTSTAMP:20260423T151907
CREATED:20190811T161051Z
LAST-MODIFIED:20190811T161051Z
UID:132-1570006800-1570035600@630kids.com
SUMMARY:Shedd Aquarium FREE DAY
DESCRIPTION:The Shedd Aquarium is offering Illinois Residents free admission. \n Details Here
URL:https://630kids.com/event/shedd-aquarium-free-day-15/
LOCATION:Shedd Aquarium\, 1200 S Lake Shore Drive\, Chicago\, IL\, 60605\, United States
END:VEVENT
BEGIN:VEVENT
DTSTART;TZID=America/Chicago:20191001T090000
DTEND;TZID=America/Chicago:20191001T170000
DTSTAMP:20260423T151907
CREATED:20190811T160948Z
LAST-MODIFIED:20190811T160948Z
UID:130-1569920400-1569949200@630kids.com
SUMMARY:Shedd Aquarium FREE DAY
DESCRIPTION:The Shedd Aquarium is offering Illinois Residents free admission. \n Details Here
URL:https://630kids.com/event/shedd-aquarium-free-day-14/
LOCATION:Shedd Aquarium\, 1200 S Lake Shore Drive\, Chicago\, IL\, 60605\, United States
END:VEVENT
BEGIN:VEVENT
DTSTART;TZID=America/Chicago:20190930T090000
DTEND;TZID=America/Chicago:20190930T170000
DTSTAMP:20260423T151907
CREATED:20190811T160716Z
LAST-MODIFIED:20190811T160716Z
UID:128-1569834000-1569862800@630kids.com
SUMMARY:Shedd Aquarium FREE DAY
DESCRIPTION:The Shedd Aquarium is offering Illinois Residents free admission. \n Details Here
URL:https://630kids.com/event/shedd-aquarium-free-day-13/
LOCATION:Shedd Aquarium\, 1200 S Lake Shore Drive\, Chicago\, IL\, 60605\, United States
END:VEVENT
BEGIN:VEVENT
DTSTART;TZID=America/Chicago:20190928T080000
DTEND;TZID=America/Chicago:20190928T140000
DTSTAMP:20260423T151907
CREATED:20190810T225658Z
LAST-MODIFIED:20190811T005854Z
UID:87-1569657600-1569679200@630kids.com
SUMMARY:Wheaton French Market
DESCRIPTION:Grab the kids and head to the Wheaton French Market! \n Wheaton French Market Kids Bucket List\n 
URL:https://630kids.com/event/wheaton-french-market-8/
LOCATION:Wheaton French Market\, E Liberty Drive and S Cross Street\, Wheaton\, IL\, 60187\, United States
END:VEVENT
BEGIN:VEVENT
DTSTART;TZID=America/Chicago:20190925T090000
DTEND;TZID=America/Chicago:20190925T170000
DTSTAMP:20260423T151907
CREATED:20190813T124923Z
LAST-MODIFIED:20190813T124923Z
UID:163-1569402000-1569430800@630kids.com
SUMMARY:Field Museum FREE DAY
DESCRIPTION:The Field Museum is offering Illinois Residents free admission \n Details Here
URL:https://630kids.com/event/field-museum-free-day-7/
LOCATION:Field Museum\, 1400 S Lake Shore Drive\, Chicago\, IL\, 60605
END:VEVENT
BEGIN:VEVENT
DTSTART;TZID=America/Chicago:20190925T090000
DTEND;TZID=America/Chicago:20190925T170000
DTSTAMP:20260423T151907
CREATED:20190811T152943Z
LAST-MODIFIED:20190811T152943Z
UID:126-1569402000-1569430800@630kids.com
SUMMARY:Shedd Aquarium FREE DAY
DESCRIPTION:The Shedd Aquarium is offering Illinois Residents free admission. \n Details Here
URL:https://630kids.com/event/shedd-aquarium-free-day-12/
LOCATION:Shedd Aquarium\, 1200 S Lake Shore Drive\, Chicago\, IL\, 60605\, United States
END:VEVENT
BEGIN:VEVENT
DTSTART;TZID=America/Chicago:20190924T090000
DTEND;TZID=America/Chicago:20190924T170000
DTSTAMP:20260423T151907
CREATED:20190811T152722Z
LAST-MODIFIED:20190811T152722Z
UID:123-1569315600-1569344400@630kids.com
SUMMARY:Shedd Aquarium FREE DAY
DESCRIPTION:The Shedd Aquarium is offering Illinois Residents free admission. \n Details Here
URL:https://630kids.com/event/shedd-aquarium-free-day-11/
LOCATION:Shedd Aquarium\, 1200 S Lake Shore Drive\, Chicago\, IL\, 60605\, United States
END:VEVENT
BEGIN:VEVENT
DTSTART;TZID=America/Chicago:20190923T090000
DTEND;TZID=America/Chicago:20190923T170000
DTSTAMP:20260423T151907
CREATED:20190811T152623Z
LAST-MODIFIED:20190811T152857Z
UID:121-1569229200-1569258000@630kids.com
SUMMARY:Shedd Aquarium FREE DAY
DESCRIPTION:The Shedd Aquarium is offering Illinois Residents free admission. \n Details Here
URL:https://630kids.com/event/shedd-aquarium/
LOCATION:Shedd Aquarium\, 1200 S Lake Shore Drive\, Chicago\, IL\, 60605\, United States
END:VEVENT
BEGIN:VEVENT
DTSTART;TZID=America/Chicago:20190921T080000
DTEND;TZID=America/Chicago:20190921T140000
DTSTAMP:20260423T151907
CREATED:20190810T225617Z
LAST-MODIFIED:20190811T005925Z
UID:85-1569052800-1569074400@630kids.com
SUMMARY:Wheaton French Market
DESCRIPTION:Grab the kids and head to the Wheaton French Market! \n Wheaton French Market Kids Bucket List\n 
URL:https://630kids.com/event/wheaton-french-market-7/
LOCATION:Wheaton French Market\, E Liberty Drive and S Cross Street\, Wheaton\, IL\, 60187\, United States
END:VEVENT
BEGIN:VEVENT
DTSTART;TZID=America/Chicago:20190918T090000
DTEND;TZID=America/Chicago:20190918T170000
DTSTAMP:20260423T151907
CREATED:20190813T124843Z
LAST-MODIFIED:20190813T124843Z
UID:161-1568797200-1568826000@630kids.com
SUMMARY:Field Museum FREE DAY
DESCRIPTION:The Field Museum is offering Illinois Residents free admission \n Details Here
URL:https://630kids.com/event/field-museum-free-day-6/
LOCATION:Field Museum\, 1400 S Lake Shore Drive\, Chicago\, IL\, 60605
END:VEVENT
BEGIN:VEVENT
DTSTART;TZID=America/Chicago:20190918T090000
DTEND;TZID=America/Chicago:20190918T170000
DTSTAMP:20260423T151907
CREATED:20190811T152509Z
LAST-MODIFIED:20190811T152509Z
UID:119-1568797200-1568826000@630kids.com
SUMMARY:Shedd Aquarium FREE DAY
DESCRIPTION:The Shedd Aquarium is offering Illinois Residents free admission. \n Details Here
URL:https://630kids.com/event/shedd-aquarium-free-day-10/
LOCATION:Shedd Aquarium\, 1200 S Lake Shore Drive\, Chicago\, IL\, 60605\, United States
END:VEVENT
BEGIN:VEVENT
DTSTART;TZID=America/Chicago:20190917T090000
DTEND;TZID=America/Chicago:20190917T170000
DTSTAMP:20260423T151907
CREATED:20190811T152345Z
LAST-MODIFIED:20190811T152345Z
UID:117-1568710800-1568739600@630kids.com
SUMMARY:Shedd Aquarium FREE DAY
DESCRIPTION:The Shedd Aquarium is offering Illinois Residents free admission. \n Details Here
URL:https://630kids.com/event/shedd-aquarium-free-day-9/
LOCATION:Shedd Aquarium\, 1200 S Lake Shore Drive\, Chicago\, IL\, 60605\, United States
END:VEVENT
BEGIN:VEVENT
DTSTART;TZID=America/Chicago:20190916T090000
DTEND;TZID=America/Chicago:20190916T170000
DTSTAMP:20260423T151907
CREATED:20190811T152248Z
LAST-MODIFIED:20190811T152248Z
UID:115-1568624400-1568653200@630kids.com
SUMMARY:Shedd Aquarium FREE DAY
DESCRIPTION:The Shedd Aquarium is offering Illinois Residents free admission. \n Details Here
URL:https://630kids.com/event/shedd-aquarium-free-day-8/
LOCATION:Shedd Aquarium\, 1200 S Lake Shore Drive\, Chicago\, IL\, 60605\, United States
END:VEVENT
BEGIN:VEVENT
DTSTART;TZID=America/Chicago:20190914T150000
DTEND;TZID=America/Chicago:20190914T210000
DTSTAMP:20260423T151907
CREATED:20190823T131650Z
LAST-MODIFIED:20190823T131650Z
UID:232-1568473200-1568494800@630kids.com
SUMMARY:Back To School Fortnite Tourney
DESCRIPTION:Kids can compete in a double elimination bracket tournament for big prizes while playing Fortnite. \n Details Here
URL:https://630kids.com/event/back-to-school-fortnite-tourney/
LOCATION:NIU Naperville Esports Lounge\, 1120 East Diehl Road\, Naperville\, Illinois\, 60563
END:VEVENT
BEGIN:VEVENT
DTSTART;TZID=America/Chicago:20190914T080000
DTEND;TZID=America/Chicago:20190914T140000
DTSTAMP:20260423T151907
CREATED:20190810T225541Z
LAST-MODIFIED:20190813T131020Z
UID:83-1568448000-1568469600@630kids.com
SUMMARY:Wheaton French Market
DESCRIPTION:Grab the kids and head to the Wheaton French Market! \n Wheaton French Market Kids Bucket List\n 
URL:https://630kids.com/event/wheaton-french-market-6/
LOCATION:Wheaton French Market\, E Liberty Drive and S Cross Street\, Wheaton\, IL\, 60187\, United States
END:VEVENT
BEGIN:VEVENT
DTSTART;TZID=America/Chicago:20190911T090000
DTEND;TZID=America/Chicago:20190911T170000
DTSTAMP:20260423T151907
CREATED:20190813T124803Z
LAST-MODIFIED:20190813T124803Z
UID:159-1568192400-1568221200@630kids.com
SUMMARY:Field Museum FREE DAY
DESCRIPTION:The Field Museum is offering Illinois Residents free admission \n Details Here
URL:https://630kids.com/event/field-museum-free-day-5/
LOCATION:Field Museum\, 1400 S Lake Shore Drive\, Chicago\, IL\, 60605
END:VEVENT
BEGIN:VEVENT
DTSTART;TZID=America/Chicago:20190911T090000
DTEND;TZID=America/Chicago:20190911T170000
DTSTAMP:20260423T151907
CREATED:20190811T152141Z
LAST-MODIFIED:20190811T152141Z
UID:113-1568192400-1568221200@630kids.com
SUMMARY:Shedd Aquarium FREE DAY
DESCRIPTION:The Shedd Aquarium is offering Illinois Residents free admission. \n Details Here
URL:https://630kids.com/event/shedd-aquarium-free-day-7/
LOCATION:Shedd Aquarium\, 1200 S Lake Shore Drive\, Chicago\, IL\, 60605\, United States
END:VEVENT
BEGIN:VEVENT
DTSTART;TZID=America/Chicago:20190910T090000
DTEND;TZID=America/Chicago:20190910T170000
DTSTAMP:20260423T151907
CREATED:20190811T151806Z
LAST-MODIFIED:20190813T130940Z
UID:111-1568106000-1568134800@630kids.com
SUMMARY:Shedd Aquarium FREE DAY
DESCRIPTION:The Shedd Aquarium is offering Illinois Residents free admission. \n Details Here
URL:https://630kids.com/event/shedd-aquarium-free-day-6/
LOCATION:Shedd Aquarium\, 1200 S Lake Shore Drive\, Chicago\, IL\, 60605\, United States
END:VEVENT
BEGIN:VEVENT
DTSTART;TZID=America/Chicago:20190909T090000
DTEND;TZID=America/Chicago:20190909T170000
DTSTAMP:20260423T151907
CREATED:20190811T151718Z
LAST-MODIFIED:20190813T130723Z
UID:109-1568019600-1568048400@630kids.com
SUMMARY:Shedd Aquarium FREE DAY
DESCRIPTION:The Shedd Aquarium is offering Illinois Residents free admission. \n Details Here
URL:https://630kids.com/event/shedd-aquarium-free-day-5/
LOCATION:Shedd Aquarium\, 1200 S Lake Shore Drive\, Chicago\, IL\, 60605\, United States
END:VEVENT
BEGIN:VEVENT
DTSTART;TZID=America/Chicago:20190907T080000
DTEND;TZID=America/Chicago:20190907T140000
DTSTAMP:20260423T151907
CREATED:20190810T171018Z
LAST-MODIFIED:20190811T005817Z
UID:68-1567843200-1567864800@630kids.com
SUMMARY:Wheaton French Market
DESCRIPTION:Grab the kids and head to the Wheaton French Market! \n Wheaton French Market Kids Bucket List
URL:https://630kids.com/event/wheaton-french-market-5/
LOCATION:Wheaton French Market\, E Liberty Drive and S Cross Street\, Wheaton\, IL\, 60187\, United States
END:VEVENT
BEGIN:VEVENT
DTSTART;TZID=America/Chicago:20190904T090000
DTEND;TZID=America/Chicago:20190904T170000
DTSTAMP:20260423T151907
CREATED:20190813T124702Z
LAST-MODIFIED:20190813T124702Z
UID:157-1567587600-1567616400@630kids.com
SUMMARY:Field Museum FREE DAY
DESCRIPTION:The Field Museum is offering Illinois Residents free admission \n Details Here
URL:https://630kids.com/event/field-museum-free-day-4/
LOCATION:Field Museum\, 1400 S Lake Shore Drive\, Chicago\, IL\, 60605
END:VEVENT
BEGIN:VEVENT
DTSTART;TZID=America/Chicago:20190904T090000
DTEND;TZID=America/Chicago:20190904T170000
DTSTAMP:20260423T151907
CREATED:20190811T151616Z
LAST-MODIFIED:20190813T130341Z
UID:107-1567587600-1567616400@630kids.com
SUMMARY:Shedd Aquarium FREE DAY
DESCRIPTION:The Shedd Aquarium is offering Illinois Residents free admission. \n Details Here
URL:https://630kids.com/event/shedd-aquarium-free-day-4/
LOCATION:Shedd Aquarium\, 1200 S Lake Shore Drive\, Chicago\, IL\, 60605\, United States
END:VEVENT
BEGIN:VEVENT
DTSTART;TZID=America/Chicago:20190903T090000
DTEND;TZID=America/Chicago:20190903T170000
DTSTAMP:20260423T151907
CREATED:20190811T151516Z
LAST-MODIFIED:20190811T151516Z
UID:105-1567501200-1567530000@630kids.com
SUMMARY:Shedd Aquarium FREE DAY
DESCRIPTION:The Shedd Aquarium is offering Illinois Residents free admission. \n Details Here
URL:https://630kids.com/event/shedd-aquarium-free-day-3/
LOCATION:Shedd Aquarium\, 1200 S Lake Shore Drive\, Chicago\, IL\, 60605\, United States
END:VEVENT
BEGIN:VEVENT
DTSTART;TZID=America/Chicago:20190831T080000
DTEND;TZID=America/Chicago:20190831T140000
DTSTAMP:20260423T151907
CREATED:20190810T170910Z
LAST-MODIFIED:20190810T170910Z
UID:66-1567238400-1567260000@630kids.com
SUMMARY:Wheaton French Market
DESCRIPTION:Grab the kids and head to the Wheaton French Market! \n Wheaton French Market Kids Bucket List
URL:https://630kids.com/event/wheaton-french-market-4/
LOCATION:Wheaton French Market\, E Liberty Drive and S Cross Street\, Wheaton\, IL\, 60187\, United States
END:VEVENT
BEGIN:VEVENT
DTSTART;TZID=America/Chicago:20190828T090000
DTEND;TZID=America/Chicago:20190828T170000
DTSTAMP:20260423T151907
CREATED:20190813T124618Z
LAST-MODIFIED:20190813T124618Z
UID:155-1566982800-1567011600@630kids.com
SUMMARY:Field Museum FREE DAY
DESCRIPTION:The Field Museum is offering Illinois Residents free admission \n Details Here
URL:https://630kids.com/event/field-museum-free-day-3/
LOCATION:Field Museum\, 1400 S Lake Shore Drive\, Chicago\, IL\, 60605
END:VEVENT
BEGIN:VEVENT
DTSTART;TZID=America/Chicago:20190827T090000
DTEND;TZID=America/Chicago:20190827T170000
DTSTAMP:20260423T151907
CREATED:20190811T151406Z
LAST-MODIFIED:20190811T151406Z
UID:103-1566896400-1566925200@630kids.com
SUMMARY:Shedd Aquarium FREE DAY
DESCRIPTION:The Shedd Aquarium is offering Illinois Residents free admission. \n Details Here
URL:https://630kids.com/event/shedd-aquarium-free-day-2/
LOCATION:Shedd Aquarium\, 1200 S Lake Shore Drive\, Chicago\, IL\, 60605\, United States
END:VEVENT
BEGIN:VEVENT
DTSTART;TZID=America/Chicago:20190826T090000
DTEND;TZID=America/Chicago:20190826T180000
DTSTAMP:20260423T151907
CREATED:20190811T150836Z
LAST-MODIFIED:20190811T150836Z
UID:100-1566810000-1566842400@630kids.com
SUMMARY:Shedd Aquarium FREE DAY
DESCRIPTION:The Shedd Aquarium is offering Illinois Residents free admission. \n Details Here
URL:https://630kids.com/event/shedd-aquarium-free-day/
LOCATION:Shedd Aquarium\, 1200 S Lake Shore Drive\, Chicago\, IL\, 60605\, United States
END:VEVENT
BEGIN:VEVENT
DTSTART;TZID=America/Chicago:20190824T100000
DTEND;TZID=America/Chicago:20190824T110000
DTSTAMP:20260423T151907
CREATED:20190815T130727Z
LAST-MODIFIED:20190815T130825Z
UID:191-1566640800-1566644400@630kids.com
SUMMARY:Meet Daniel Tiger at Learning Express
DESCRIPTION:Meet Daniel Tiger at Learning Express in Glen Ellyn. \n Details Here
URL:https://630kids.com/event/meet-daniel-tiger-at-learning-express/
LOCATION:Learning Express Toys\, 900 Roosevelt Road\, Glen Ellyn\, Illinois\, 60137
END:VEVENT
END:VCALENDAR